BEGIN:VCALENDAR
VERSION:2.0
PRODID:-//Lucas County Law Library - ECPv6.15.20//NONSGML v1.0//EN
CALSCALE:GREGORIAN
METHOD:PUBLISH
X-ORIGINAL-URL:https://lucascountylawlibrary.com
X-WR-CALDESC:Events for Lucas County Law Library
REFRESH-INTERVAL;VALUE=DURATION:PT1H
X-Robots-Tag:noindex
X-PUBLISHED-TTL:PT1H
BEGIN:VTIMEZONE
TZID:America/New_York
BEGIN:DAYLIGHT
TZOFFSETFROM:-0500
TZOFFSETTO:-0400
TZNAME:EDT
DTSTART:20230312T070000
END:DAYLIGHT
BEGIN:STANDARD
TZOFFSETFROM:-0400
TZOFFSETTO:-0500
TZNAME:EST
DTSTART:20231105T060000
END:STANDARD
BEGIN:DAYLIGHT
TZOFFSETFROM:-0500
TZOFFSETTO:-0400
TZNAME:EDT
DTSTART:20240310T070000
END:DAYLIGHT
BEGIN:STANDARD
TZOFFSETFROM:-0400
TZOFFSETTO:-0500
TZNAME:EST
DTSTART:20241103T060000
END:STANDARD
BEGIN:DAYLIGHT
TZOFFSETFROM:-0500
TZOFFSETTO:-0400
TZNAME:EDT
DTSTART:20250309T070000
END:DAYLIGHT
BEGIN:STANDARD
TZOFFSETFROM:-0400
TZOFFSETTO:-0500
TZNAME:EST
DTSTART:20251102T060000
END:STANDARD
END:VTIMEZONE
BEGIN:VEVENT
DTSTART;TZID=America/New_York:20241119T110000
DTEND;TZID=America/New_York:20241119T120000
DTSTAMP:20260421T062557
CREATED:20241113T195244Z
LAST-MODIFIED:20241113T201238Z
UID:10000069-1732014000-1732017600@lucascountylawlibrary.com
SUMMARY:LexisNexis Digital Library CLE Training
DESCRIPTION:  \n \nLearn about the features and benefits of the LexisNexis Digital Library and how to navigate through the platform.\n• Anytime access to the library eBook collection\n• Read in your web browser or via the web app\n• Advanced search capabilities\n• Book-like reading experience with convenient annotations\, highlights and hyperlinks to the Lexis+ or the Lexis® service for deep research\n• Use the TOC to open to a specific section with just one click \n  \nThis is an hour long CLE entitled LexisNexis Digital Library CLE Training This will be a live training\, held over Zoom. You may attend remotely\, or in the library; sign up is required for in the library. If you plan to attend in the library\, you can RSVP here\, or speak with a librarian. If you plan to attend remotely\, preregistration is not required just clink the link at 11:00 am and enter the passcode. \n  \nLink \nPasscode: LucasCLE
URL:https://lucascountylawlibrary.com/event/lexisnexis-digital-library-cle-training/
LOCATION:Lucas County Law Library\, 905 Jackson St.\, Toledo\, OH\, 43604
ORGANIZER;CN="Kaitlyn Wittman":MAILTO:kaitlyn.forsyth@lexisnexis.com
END:VEVENT
BEGIN:VEVENT
DTSTART;TZID=America/New_York:20241121T140000
DTEND;TZID=America/New_York:20241121T150000
DTSTAMP:20260421T062557
CREATED:20241105T182248Z
LAST-MODIFIED:20241121T153342Z
UID:10000067-1732197600-1732201200@lucascountylawlibrary.com
SUMMARY:Introduction to Westlaw Precision with Al Assisted Research - VIRTUAL CLE
DESCRIPTION:This is a live virtual program put on by Thomson Reuters and presented via Microsoft Teams. ADVANCE REGISTRATION IS REQUIRED. Click here to register. \n  \nThis CLE will ensure that users of Westlaw Precision understand how to accomplish common tasks. The CLE is appropriate for all audiences-no familiarity with prior versions of Westlaw or other research workflows required. Discover how Westlaw Precision continues to evolve including a discussion of our newest Artificial Intelligence Tool. \n  \nCredit Requested For: CT\, DE\, IL-Exp\, IL-New\, IN\, ME\, MN\, NH\, NJ\, OH\, PA\, PR\, RI\, VT\, VA\, VI\, WV\,WI \nInformation on how to obtain credit will be provided at the beginning of the CLE. You must attend the entire session and follow the instructions to request credit after the session. \nNote: This CLE is on the Westlaw Precision Platform and your agency may be on Westlaw Edge. You are still welcome to attend regardless of which platform you use.
URL:https://lucascountylawlibrary.com/event/introduction-to-westlaw-precision-with-al-assisted-research-virtual-cle/
LOCATION:OH
ORGANIZER;CN="Jill VanderZiel":MAILTO:JillVanderZiel@tr.com
END:VEVENT
END:VCALENDAR