BEGIN:VCALENDAR
VERSION:2.0
PRODID:-//Lucas County Law Library - ECPv6.15.20//NONSGML v1.0//EN
CALSCALE:GREGORIAN
METHOD:PUBLISH
X-WR-CALNAME:Lucas County Law Library
X-ORIGINAL-URL:https://lucascountylawlibrary.com
X-WR-CALDESC:Events for Lucas County Law Library
REFRESH-INTERVAL;VALUE=DURATION:PT1H
X-Robots-Tag:noindex
X-PUBLISHED-TTL:PT1H
BEGIN:VTIMEZONE
TZID:America/New_York
BEGIN:DAYLIGHT
TZOFFSETFROM:-0500
TZOFFSETTO:-0400
TZNAME:EDT
DTSTART:20240310T070000
END:DAYLIGHT
BEGIN:STANDARD
TZOFFSETFROM:-0400
TZOFFSETTO:-0500
TZNAME:EST
DTSTART:20241103T060000
END:STANDARD
BEGIN:DAYLIGHT
TZOFFSETFROM:-0500
TZOFFSETTO:-0400
TZNAME:EDT
DTSTART:20250309T070000
END:DAYLIGHT
BEGIN:STANDARD
TZOFFSETFROM:-0400
TZOFFSETTO:-0500
TZNAME:EST
DTSTART:20251102T060000
END:STANDARD
BEGIN:DAYLIGHT
TZOFFSETFROM:-0500
TZOFFSETTO:-0400
TZNAME:EDT
DTSTART:20260308T070000
END:DAYLIGHT
BEGIN:STANDARD
TZOFFSETFROM:-0400
TZOFFSETTO:-0500
TZNAME:EST
DTSTART:20261101T060000
END:STANDARD
BEGIN:DAYLIGHT
TZOFFSETFROM:-0500
TZOFFSETTO:-0400
TZNAME:EDT
DTSTART:20270314T070000
END:DAYLIGHT
BEGIN:STANDARD
TZOFFSETFROM:-0400
TZOFFSETTO:-0500
TZNAME:EST
DTSTART:20271107T060000
END:STANDARD
END:VTIMEZONE
BEGIN:VEVENT
DTSTART;TZID=America/New_York:20251031T140000
DTEND;TZID=America/New_York:20251031T150000
DTSTAMP:20260420T125602
CREATED:20250916T173907Z
LAST-MODIFIED:20250916T173907Z
UID:10000076-1761919200-1761922800@lucascountylawlibrary.com
SUMMARY:What’s New on Westlaw Precision with CoCounsel - VIRTUAL CLE
DESCRIPTION:This is a live virtual program put on by Thomson Reuters and presented via Microsoft Teams. ADVANCE REGISTRATION IS REQUIRED. Click here to register. \n  \nWhat’s New on Westlaw Precision is designed to ensure that users are up-to-date on its content\, features\, and functionality. This CLE is most appropriate for users who have some familiarity with Westlaw Precision\, such as those who have attended the Introduction to Westlaw Precision CLE or a similar session. Discover how Westlaw Precision continues to evolve\, including a discussion of our newest Artificial Intelligence Tool. \n  \nInformation on how to obtain credit will be provided at the beginning of the CLE. You must attend the entire session and follow the instructions to request credit after the session. \n  \nIf you have questions about credit for this course\, please contact CLECentral@CeriFi.com
URL:https://lucascountylawlibrary.com/event/whats-new-on-westlaw-precision-with-cocounsel-virtual-cle/
LOCATION:OH
ORGANIZER;CN="Jennifer Canfield":MAILTO:Jennifer.Canfield@tr.com
END:VEVENT
BEGIN:VEVENT
DTSTART;TZID=America/New_York:20251105T120000
DTEND;TZID=America/New_York:20251105T130000
DTSTAMP:20260420T125602
CREATED:20250916T174152Z
LAST-MODIFIED:20250916T174152Z
UID:10000077-1762344000-1762347600@lucascountylawlibrary.com
SUMMARY:Statutes and Legislative History on Westlaw - VIRTUAL CLE
DESCRIPTION:This is a live virtual program put on by Thomson Reuters and presented via Microsoft Teams. ADVANCE REGISTRATION IS REQUIRED. Click here to register. \n  \nLearn how to conduct legislative history research on Westlaw. In the first part of this class\, you will learn how to research the legislative history for a specific act. In the second part of this class\, you will learn how to find the legislative history for a specific statute. Part three will focus on researching statutes. Part four will focus on researching state legislative history materials on Westlaw. \n  \nIf you have questions about credit for this course\, please contact CLECentral@CeriFi.com \n  \nIMPORTANT CLE Reminders: \n\nPlease log in a few minutes early so the session can start on time.\nCode words are provided intermittently during the 1-hour sessions to verify attention. Code words cannot be repeated. If you are late to the session and/or miss any of the code words\, you will not be eligible to get credit for the class.\nIf your state requires attorneys to self-report\, you will be responsible for reporting the CLE session(s) on the state’s CLE website.
URL:https://lucascountylawlibrary.com/event/statutes-and-legislative-history-on-westlaw-virtual-cle-2/
LOCATION:OH
ORGANIZER;CN="Stephanie Ruse-Small":MAILTO:Stephanie.Rust-Small@thomsonreuters.com
END:VEVENT
BEGIN:VEVENT
DTSTART;TZID=America/New_York:20251113T100000
DTEND;TZID=America/New_York:20251113T110000
DTSTAMP:20260420T125602
CREATED:20250916T174359Z
LAST-MODIFIED:20250916T174359Z
UID:10000078-1763028000-1763031600@lucascountylawlibrary.com
SUMMARY:Litigation Research with Westlaw Edge - VIRTUAL CLE
DESCRIPTION:This is a live virtual program put on by Thomson Reuters and presented via Microsoft Teams. ADVANCE REGISTRATION IS REQUIRED. Click here to register. \n  \nDuring this course\, you will learn how to locate relevant briefs\, pleadings\, motions\, dockets\, jury verdicts\, settlements\, expert materials\, and comprehensive reports most efficiently on experts\, judges\, and opposing counsel in Westlaw. You will also learn how to conduct additional research within dockets\, jury instructions\, court rules and Key Numbers.  You will apply KeyCite to verify if you are relying on good law. The instructor will cover how to use Litigation Analytics to hone litigation strategy and to manage expectations. Finally\, the instructor will show you how to use Quick Check to check your own work and to analyze an opponent’s brief. (This CLE will be on the Westlaw Edge platform\, but the techniques you learn will work on Westlaw Edge or Westlaw Precision). \n  \nIf you have questions about credit for this course\, please contact CLECentral@CeriFi.com \n 
URL:https://lucascountylawlibrary.com/event/litigation-research-with-westlaw-edge-virtual-cle/
LOCATION:OH
ORGANIZER;CN="Trevor Friend":MAILTO:Trevor.friend@thomsonreuters.com
END:VEVENT
BEGIN:VEVENT
DTSTART;TZID=America/New_York:20251205T120000
DTEND;TZID=America/New_York:20251205T130000
DTSTAMP:20260420T125602
CREATED:20251020T194639Z
LAST-MODIFIED:20251020T194830Z
UID:10000079-1764936000-1764939600@lucascountylawlibrary.com
SUMMARY:Brunch and Bankruptcy - IN-PERSON CLE
DESCRIPTION:  \n \nPlease join us on December 5\, 2025 \nBrunch will be served  at 11:30 am \nSession will take place from 12:00 to 1:00 pm \n  \nEnjoy a brunch sponsored by the Toledo Law Association and earn one CLE Credit hour while learning about bankruptcy law. \n  \nPresented by: \nElizabeth Vaughn\, Standing Chapter 13 Trustee for the Northern District of Ohio\, Western Division \n  \nTopic – Understanding the National Form Plan. \n  \nThis CLE has been approved by the Supreme Court of Ohio Commission on Continuing Legal Education for one hour general credit.
URL:https://lucascountylawlibrary.com/event/brunch-and-bankruptcy-in-person-cle/
LOCATION:Lucas County Law Library\, 905 Jackson St.\, Toledo\, OH\, 43604
END:VEVENT
BEGIN:VEVENT
DTSTART;TZID=America/New_York:20260109T120000
DTEND;TZID=America/New_York:20260109T130000
DTSTAMP:20260420T125602
CREATED:20251216T181742Z
LAST-MODIFIED:20251216T185645Z
UID:10000080-1767960000-1767963600@lucascountylawlibrary.com
SUMMARY:Tyler Training (Lucas County online docket site)
DESCRIPTION:This presentation will be given by Donna Edgar\, Project Manager\, Lucas County Court of Common Pleas\, regarding the Docket site. This training will cover the changes to the system that will be going live on January 6\, 2026 \nThis is NOT a CLE. \nThis will be a live training held over Zoom. You may attend remotely or in the library. Registration is required for in-library attendance only. \nIf you plan to attend in the library\, please RSVP here or speak with a librarian. If you plan to attend remotely\, click the Zoom link on the day of the training. \n 
URL:https://lucascountylawlibrary.com/event/tyler-training-lucas-county-online-docket-site-virtual/
LOCATION:Lucas County Law Library\, 905 Jackson St.\, Toledo\, OH\, 43604
END:VEVENT
BEGIN:VEVENT
DTSTART;TZID=America/New_York:20260522T120000
DTEND;TZID=America/New_York:20260522T130000
DTSTAMP:20260420T125602
CREATED:20260417T142828Z
LAST-MODIFIED:20260417T145125Z
UID:10000081-1779451200-1779454800@lucascountylawlibrary.com
SUMMARY:Bankruptcy & Personal Injury: What? I might not get paid? - IN PERSON CLE
DESCRIPTION:  \n \nPlease join us on May 22\, 2026 \nLunch will be served  at 11:30 am \nSession will take place from 12:00 to 1:00 pm \n  \nEnjoy a Lunch sponsored by the Toledo Law Association and earn one CLE Credit hour while learning about how bankruptcy can affect a personal injury case. \n  \nPresented by: \nElizabeth Vaughn\, Standing Chapter 13 Trustee for the Northern District of Ohio\, Western Division and Thom Cafferty\, Chapter 7 Panel Trustee for the Northern District of Ohio. \n  \nTopic – Bankruptcy and Personal Injury: What?  I might not get paid? What every PI practitioner needs to know about bankruptcy. \n  \n  \nThis CLE has been approved by the Supreme Court of Ohio Commission on Continuing Legal Education for one hour general credit.
URL:https://lucascountylawlibrary.com/event/bankruptcy-personal-injury-what-i-might-not-get-paid-in-person-cle/
LOCATION:Lucas County Law Library\, 905 Jackson St.\, Toledo\, OH\, 43604
END:VEVENT
END:VCALENDAR