BEGIN:VCALENDAR
VERSION:2.0
PRODID:-//Lucas County Law Library - ECPv6.15.20//NONSGML v1.0//EN
CALSCALE:GREGORIAN
METHOD:PUBLISH
X-ORIGINAL-URL:https://lucascountylawlibrary.com
X-WR-CALDESC:Events for Lucas County Law Library
REFRESH-INTERVAL;VALUE=DURATION:PT1H
X-Robots-Tag:noindex
X-PUBLISHED-TTL:PT1H
BEGIN:VTIMEZONE
TZID:America/New_York
BEGIN:DAYLIGHT
TZOFFSETFROM:-0500
TZOFFSETTO:-0400
TZNAME:EDT
DTSTART:20230312T070000
END:DAYLIGHT
BEGIN:STANDARD
TZOFFSETFROM:-0400
TZOFFSETTO:-0500
TZNAME:EST
DTSTART:20231105T060000
END:STANDARD
BEGIN:DAYLIGHT
TZOFFSETFROM:-0500
TZOFFSETTO:-0400
TZNAME:EDT
DTSTART:20240310T070000
END:DAYLIGHT
BEGIN:STANDARD
TZOFFSETFROM:-0400
TZOFFSETTO:-0500
TZNAME:EST
DTSTART:20241103T060000
END:STANDARD
BEGIN:DAYLIGHT
TZOFFSETFROM:-0500
TZOFFSETTO:-0400
TZNAME:EDT
DTSTART:20250309T070000
END:DAYLIGHT
BEGIN:STANDARD
TZOFFSETFROM:-0400
TZOFFSETTO:-0500
TZNAME:EST
DTSTART:20251102T060000
END:STANDARD
END:VTIMEZONE
BEGIN:VEVENT
DTSTART;TZID=America/New_York:20241030T100000
DTEND;TZID=America/New_York:20241030T110000
DTSTAMP:20260421T081130
CREATED:20241004T125637Z
LAST-MODIFIED:20241004T125637Z
UID:10000065-1730282400-1730286000@lucascountylawlibrary.com
SUMMARY:Legal Challenges in Ohio's Fight for Women's Suffrage - VIRTUAL CLE
DESCRIPTION:  \nLegal Challenges in Ohio’s Fight for Women’s Suffrage \n  \nThis is a live virtual program put on by The Cleveland Law Library and presented via Zoom. ADVANCE REGISTRATION IS REQUIRED. Click here to register.
URL:https://lucascountylawlibrary.com/event/legal-challenges-in-ohios-fight-for-womens-suffrage-virtual-cle/
LOCATION:OH
END:VEVENT
END:VCALENDAR