BEGIN:VCALENDAR
VERSION:2.0
PRODID:-//Lucas County Law Library - ECPv6.15.20//NONSGML v1.0//EN
CALSCALE:GREGORIAN
METHOD:PUBLISH
X-ORIGINAL-URL:https://lucascountylawlibrary.com
X-WR-CALDESC:Events for Lucas County Law Library
REFRESH-INTERVAL;VALUE=DURATION:PT1H
X-Robots-Tag:noindex
X-PUBLISHED-TTL:PT1H
BEGIN:VTIMEZONE
TZID:America/New_York
BEGIN:DAYLIGHT
TZOFFSETFROM:-0500
TZOFFSETTO:-0400
TZNAME:EDT
DTSTART:20230312T070000
END:DAYLIGHT
BEGIN:STANDARD
TZOFFSETFROM:-0400
TZOFFSETTO:-0500
TZNAME:EST
DTSTART:20231105T060000
END:STANDARD
BEGIN:DAYLIGHT
TZOFFSETFROM:-0500
TZOFFSETTO:-0400
TZNAME:EDT
DTSTART:20240310T070000
END:DAYLIGHT
BEGIN:STANDARD
TZOFFSETFROM:-0400
TZOFFSETTO:-0500
TZNAME:EST
DTSTART:20241103T060000
END:STANDARD
BEGIN:DAYLIGHT
TZOFFSETFROM:-0500
TZOFFSETTO:-0400
TZNAME:EDT
DTSTART:20250309T070000
END:DAYLIGHT
BEGIN:STANDARD
TZOFFSETFROM:-0400
TZOFFSETTO:-0500
TZNAME:EST
DTSTART:20251102T060000
END:STANDARD
END:VTIMEZONE
BEGIN:VEVENT
DTSTART;TZID=America/New_York:20240828T110000
DTEND;TZID=America/New_York:20240828T120000
DTSTAMP:20260421T133049
CREATED:20240701T191529Z
LAST-MODIFIED:20240701T191706Z
UID:10000057-1724842800-1724846400@lucascountylawlibrary.com
SUMMARY:Secondary Sources on Westlaw Edge - VIRTUAL CLE
DESCRIPTION:This is a live virtual program put on by Thomson Reuters and presented via Microsoft Teams. ADVANCE REGISTRATION IS REQUIRED. Click here to register. \n  \nSecondary sources are vital legal tools that provide essential guidance and analysis in every area of the law. Refresh your knowledge on best practices when using secondary sources in your research. The first part of the CLE will go through the types of secondary sources. The second half will focus on best practices and time saving tips while using secondary sources in your legal research. \n  \nThis CLE is on the Westlaw Edge Platform\, but users of Westlaw Precision will use be able to apply what they learn here to finding Secondary Sources on Westlaw Precision. \n  \nCredit Requested For: CT\, DE\, FL\, IL-Exp\, IL-New\, IN\, MN\, NH\, NJ\, OH\, PA\, PR\, RI\, VT\, VA\, VI\, WA\, WV\, WI \n  \nInformation on how to obtain credit will be provided at the beginning of the CLE. You must attend the entire session and follow the instructions to request credit after the session. \n  \n 
URL:https://lucascountylawlibrary.com/event/advanced-legal-research-with-westlaw-virtual-cle-2/
LOCATION:OH
ORGANIZER;CN="Jennifer Canfield":MAILTO:Jennifer.Canfield@tr.com
END:VEVENT
END:VCALENDAR