BEGIN:VCALENDAR
VERSION:2.0
PRODID:-//Lucas County Law Library - ECPv6.15.20//NONSGML v1.0//EN
CALSCALE:GREGORIAN
METHOD:PUBLISH
X-ORIGINAL-URL:https://lucascountylawlibrary.com
X-WR-CALDESC:Events for Lucas County Law Library
REFRESH-INTERVAL;VALUE=DURATION:PT1H
X-Robots-Tag:noindex
X-PUBLISHED-TTL:PT1H
BEGIN:VTIMEZONE
TZID:America/New_York
BEGIN:DAYLIGHT
TZOFFSETFROM:-0500
TZOFFSETTO:-0400
TZNAME:EDT
DTSTART:20230312T070000
END:DAYLIGHT
BEGIN:STANDARD
TZOFFSETFROM:-0400
TZOFFSETTO:-0500
TZNAME:EST
DTSTART:20231105T060000
END:STANDARD
BEGIN:DAYLIGHT
TZOFFSETFROM:-0500
TZOFFSETTO:-0400
TZNAME:EDT
DTSTART:20240310T070000
END:DAYLIGHT
BEGIN:STANDARD
TZOFFSETFROM:-0400
TZOFFSETTO:-0500
TZNAME:EST
DTSTART:20241103T060000
END:STANDARD
BEGIN:DAYLIGHT
TZOFFSETFROM:-0500
TZOFFSETTO:-0400
TZNAME:EDT
DTSTART:20250309T070000
END:DAYLIGHT
BEGIN:STANDARD
TZOFFSETFROM:-0400
TZOFFSETTO:-0500
TZNAME:EST
DTSTART:20251102T060000
END:STANDARD
END:VTIMEZONE
BEGIN:VEVENT
DTSTART;TZID=America/New_York:20240423T110000
DTEND;TZID=America/New_York:20240423T120000
DTSTAMP:20260421T221935
CREATED:20240325T125129Z
LAST-MODIFIED:20240325T125129Z
UID:10000054-1713870000-1713873600@lucascountylawlibrary.com
SUMMARY:Artificial Intelligence in the Workplace: Legal Implications of Using AI in Employment Decisions
DESCRIPTION:  \nIn this CLE\, the presenter will present emerging issues and trends of any employer’s use of artificial intelligence for employment decision making. Discussion will include the new Equal Employment Opportunities Commission’s new Strategic Enforcement Plan and other attempts from state and local governments to combat the growing trend of bias and discrimination that is weaving its way into employers hiring\, promotion\, and firing decisions. Finally\, this CLE will discuss the implications and ethical responsibilities of lawyers have surrounding this topic as well as how lawyers should advise their employer clients. \nLEARNING OBJECTIVES \n• Analyze the nature of AI\, how\nit is being used in employment\ndecision-making and emerging\nissues. \n• Recognize the impact of EEOC\nand USDOJ concerns and\nguidelines involving the use of\nAI in employment decisions. \n• Federal\, State\, and Local\nRegulations in effect. \n• Discuss the future of AI in\nemployment and a look\nforward. \nThis is an hour long Ethics CLE entitled Artificial Intelligence in the Workplace: Legal Implications of Using AI in Employment Decisions. This will be a live training\, held over Zoom. You may attend remotely\, or in the library; sign up is required for either option. If you plan to attend in the library\, you can RSVP here\, or speak with a librarian. If you plan to attend remotely\, register via the following link: \nRegistration Link
URL:https://lucascountylawlibrary.com/event/artificial-intelligence-in-the-workplace-legal-implications-of-using-ai-in-employment-decisions/
LOCATION:Lucas County Law Library\, 905 Jackson St.\, Toledo\, OH\, 43604
ORGANIZER;CN="Adam Millay%2C J.D.":MAILTO:adam.millay@lexisnexis.com
END:VEVENT
BEGIN:VEVENT
DTSTART;TZID=America/New_York:20240423T121500
DTEND;TZID=America/New_York:20240423T131500
DTSTAMP:20260421T221935
CREATED:20240325T125203Z
LAST-MODIFIED:20240325T131348Z
UID:10000055-1713874500-1713878100@lucascountylawlibrary.com
SUMMARY:Understanding the Risks\, Rewards\, and Regulation of AI in the Legal Industry
DESCRIPTION:  \nArtificial Intelligence\, and in particular Generative AI tools\, continue to grow in popularity and will have a significant impact on how legal professionals’ complete daily tasks and obligations of their roles. As use of AI becomes more prevalent\, it is critical for legal professionals to understand the risks and rewards of using these technologies in the workplace. In this session\, attendees will learn about navigating the competitive advantages of responsible AI in their business strategy\, eliminating bias\, and what solution providers are doing to create inclusive\, responsible technologies. Presenters will also examine recent legislation and regulatory responses relevant to AI and what is on the horizon for the coming years. \n  \nLEARNING OBJECTIVES \n• Differences between extractive and generative AI\n• How to avoid pitfalls and security risks posed by\ngenerative AI\n• Necessary elements of responsible AI technologies for\nlegal professionals\n• Impact of recent judicial\, legislative and regulatory\nresponses to AI\n• Advantages of using AI technology for corporate legal\nprofessionals \n  \nThis is an hour long CLE entitled Understanding the Risks\, Rewards\, and Regulation of AI in the Legal Industry. This will be a live training\, held over Zoom. You may attend remotely\, or in the library; sign up is required for either option. If you plan to attend in the library\, you can RSVP here\, or speak with a librarian. If you plan to attend remotely\, register via the following link: \n  \nRegistration Link
URL:https://lucascountylawlibrary.com/event/understanding-the-risks-rewards-and-regulation-of-ai-in-the-legal-industry/
LOCATION:Lucas County Law Library\, 905 Jackson St.\, Toledo\, OH\, 43604
ORGANIZER;CN="Adam Millay%2C J.D.":MAILTO:adam.millay@lexisnexis.com
END:VEVENT
END:VCALENDAR